BEGIN:VCALENDAR
VERSION:2.0
PRODID:-//Boston Cyclists Union - ECPv6.15.20//NONSGML v1.0//EN
CALSCALE:GREGORIAN
METHOD:PUBLISH
X-ORIGINAL-URL:https://bostoncyclistsunion.org
X-WR-CALDESC:Events for Boston Cyclists Union
REFRESH-INTERVAL;VALUE=DURATION:PT1H
X-Robots-Tag:noindex
X-PUBLISHED-TTL:PT1H
BEGIN:VTIMEZONE
TZID:UTC
BEGIN:STANDARD
TZOFFSETFROM:+0000
TZOFFSETTO:+0000
TZNAME:UTC
DTSTART:20200101T000000
END:STANDARD
END:VTIMEZONE
BEGIN:VEVENT
DTSTART;TZID=UTC:20211002T150000
DTEND;TZID=UTC:20211002T170000
DTSTAMP:20260422T050833
CREATED:20210929T023522Z
LAST-MODIFIED:20210929T023522Z
UID:13311-1633186800-1633194000@bostoncyclistsunion.org
SUMMARY:Ride to the North End with West Rox Bikes
DESCRIPTION:Meet 3 p.m. at the Holy Name Rotary on Centre St. Casual pace\, 8.8 miles each way (or take the T back)
URL:https://bostoncyclistsunion.org/event/ride-to-the-north-end-with-west-rox-bikes
END:VEVENT
BEGIN:VEVENT
DTSTART;TZID=UTC:20211002T160000
DTEND;TZID=UTC:20211002T180000
DTSTAMP:20260422T050833
CREATED:20210929T023639Z
LAST-MODIFIED:20210929T023639Z
UID:13313-1633190400-1633197600@bostoncyclistsunion.org
SUMMARY:Green New Dance Party!
DESCRIPTION:Join Dot Bike Kitchen\, BCU\, Dorchester Food Co-op\, and A Trike Called Funk for a night of community\, climate justice and dancing at the Nightingale Community Garden. RSVPs encouraged but not required: https://thetrustees.org/event/65007/
URL:https://bostoncyclistsunion.org/event/green-new-dance-party
LOCATION:Nightingale Community Garden\, 512 Park Street\, Dorchester\, MA\, 02124\, United States
END:VEVENT
BEGIN:VEVENT
DTSTART;TZID=UTC:20211004T180000
DTEND;TZID=UTC:20211004T190000
DTSTAMP:20260422T050833
CREATED:20180606T190022Z
LAST-MODIFIED:20180606T190022Z
UID:13727-1633370400-1633374000@bostoncyclistsunion.org
SUMMARY:Governance Committee
DESCRIPTION:Interested in getting involved? Contact Arah Schuur\, Chair: schmarah @ gmail.com.
URL:https://bostoncyclistsunion.org/event/governance-committee-2-2021-10-04-3
LOCATION:Zoom
END:VEVENT
BEGIN:VEVENT
DTSTART;TZID=UTC:20211004T183000
DTEND;TZID=UTC:20211004T200000
DTSTAMP:20260422T050833
CREATED:20180606T190022Z
LAST-MODIFIED:20180606T190022Z
UID:13677-1633372200-1633377600@bostoncyclistsunion.org
SUMMARY:Governance Committee
DESCRIPTION:Interested in getting involved? Contact Stephen Mueller\, Chair: stephen @ bostoncyclistsunion.org.
URL:https://bostoncyclistsunion.org/event/governance-committee-2-2021-10-04-2
LOCATION:Zoom
END:VEVENT
BEGIN:VEVENT
DTSTART;TZID=UTC:20211004T183000
DTEND;TZID=UTC:20211004T203000
DTSTAMP:20260422T050833
CREATED:20180606T190022Z
LAST-MODIFIED:20180606T190022Z
UID:10882-1633372200-1633379400@bostoncyclistsunion.org
SUMMARY:Governance Committee
DESCRIPTION:
URL:https://bostoncyclistsunion.org/event/governance-committee-2-2021-10-04
LOCATION:Eastern Bank – Central\, 647 Massachusetts Ave\, Cambridge\, MA\, 02139\, United States
END:VEVENT
BEGIN:VEVENT
DTSTART;TZID=UTC:20211011T180000
DTEND;TZID=UTC:20211011T193000
DTSTAMP:20260422T050833
CREATED:20180606T183525Z
LAST-MODIFIED:20180606T183525Z
UID:13958-1633975200-1633980600@bostoncyclistsunion.org
SUMMARY:Development Committee Meeting
DESCRIPTION:Interested in getting involved? Contact Jon Terbush\, Communications Director: jterbush @ bostoncyclistsunion.org.
URL:https://bostoncyclistsunion.org/event/development-committee-meeting-2021-10-11-3
LOCATION:Zoom
END:VEVENT
BEGIN:VEVENT
DTSTART;TZID=UTC:20211011T180000
DTEND;TZID=UTC:20211011T200000
DTSTAMP:20260422T050833
CREATED:20180606T183525Z
LAST-MODIFIED:20180606T183525Z
UID:13877-1633975200-1633982400@bostoncyclistsunion.org
SUMMARY:Development Committee Meeting
DESCRIPTION:Interested in getting involved? Contact Jon Terbush\, Communications Director: jterbush @ bostoncyclistsunion.org.
URL:https://bostoncyclistsunion.org/event/development-committee-meeting-2021-10-11-2
LOCATION:Zoom
END:VEVENT
BEGIN:VEVENT
DTSTART;TZID=UTC:20211011T183000
DTEND;TZID=UTC:20211011T203000
DTSTAMP:20260422T050833
CREATED:20180606T183525Z
LAST-MODIFIED:20180606T183525Z
UID:10894-1633977000-1633984200@bostoncyclistsunion.org
SUMMARY:Development Committee Meeting
DESCRIPTION:
URL:https://bostoncyclistsunion.org/event/development-committee-meeting-2021-10-11
LOCATION:Capital One Café\, 799 Boylston St\, Boston\, 02116
END:VEVENT
BEGIN:VEVENT
DTSTART;TZID=UTC:20211019T180000
DTEND;TZID=UTC:20211019T193000
DTSTAMP:20260422T050833
CREATED:20180606T183856Z
LAST-MODIFIED:20200720T222306Z
UID:12027-1634666400-1634671800@bostoncyclistsunion.org
SUMMARY:BCU Activist Group Meeting
DESCRIPTION:Monthly meeting to discuss and develop organizing strategy for our city-wide campaigns. \nIf you want to attend\, please email bwolfson@bostoncyclistsunion.org. \n***In line with last month\, we will meet virtually for 1.5 hours from 6-7:30pm. An agenda and zoom link will be shared out on Monday.
URL:https://bostoncyclistsunion.org/event/boston-cyclists-union-activist-group-meeting-2021-10-19
LOCATION:Zoom
END:VEVENT
BEGIN:VEVENT
DTSTART;TZID=UTC:20211019T190000
DTEND;TZID=UTC:20211019T203000
DTSTAMP:20260422T050833
CREATED:20180606T183856Z
LAST-MODIFIED:20180606T183856Z
UID:13507-1634670000-1634675400@bostoncyclistsunion.org
SUMMARY:BCU Activist Group Meeting
DESCRIPTION:Monthly meeting to discuss and develop organizing strategy for our city-wide campaigns. \nIf you want to attend\, please email Eliza at eparad@bostoncyclistsunion.org. \n***In line with last month\, we will meet virtually for 1.5 hours from 7-8:30pm. An agenda and zoom link will be shared out on Monday.
URL:https://bostoncyclistsunion.org/event/boston-cyclists-union-activist-group-meeting-2021-10-19-2
LOCATION:Zoom
END:VEVENT
BEGIN:VEVENT
DTSTART;TZID=UTC:20211019T190000
DTEND;TZID=UTC:20211019T203000
DTSTAMP:20260422T050833
CREATED:20180606T183856Z
LAST-MODIFIED:20180606T183856Z
UID:13607-1634670000-1634675400@bostoncyclistsunion.org
SUMMARY:BCU Activist Group Meeting
DESCRIPTION:Monthly meeting to discuss and develop organizing strategy for our city-wide campaigns. \nIf you want to attend\, please email Eliza at eparad@bostoncyclistsunion.org. \n***In line with last month\, we will meet virtually for 1.5 hours from 7-8:30pm. An agenda and zoom link will be shared out on Monday.
URL:https://bostoncyclistsunion.org/event/boston-cyclists-union-activist-group-meeting-2021-10-19-3
LOCATION:Zoom
END:VEVENT
BEGIN:VEVENT
DTSTART;TZID=UTC:20211019T190000
DTEND;TZID=UTC:20211019T203000
DTSTAMP:20260422T050833
CREATED:20180606T183856Z
LAST-MODIFIED:20180606T183856Z
UID:15195-1634670000-1634675400@bostoncyclistsunion.org
SUMMARY:BCU Activist Group Meeting
DESCRIPTION:Monthly meeting to discuss and develop organizing strategy for our city-wide campaigns. \nIf you want to attend\, please email Alex at ashames@bostoncyclistsunion.org. \n***In line with last month\, we will meet virtually for 1.5 hours from 7-8:30pm. An agenda and zoom link will be shared out on Monday.
URL:https://bostoncyclistsunion.org/event/boston-cyclists-union-activist-group-meeting-2021-10-19-4
LOCATION:Zoom
END:VEVENT
END:VCALENDAR