BEGIN:VCALENDAR
VERSION:2.0
PRODID:-//Boston Cyclists Union - ECPv6.15.20//NONSGML v1.0//EN
CALSCALE:GREGORIAN
METHOD:PUBLISH
X-ORIGINAL-URL:https://bostoncyclistsunion.org
X-WR-CALDESC:Events for Boston Cyclists Union
REFRESH-INTERVAL;VALUE=DURATION:PT1H
X-Robots-Tag:noindex
X-PUBLISHED-TTL:PT1H
BEGIN:VTIMEZONE
TZID:UTC
BEGIN:STANDARD
TZOFFSETFROM:+0000
TZOFFSETTO:+0000
TZNAME:UTC
DTSTART:20200101T000000
END:STANDARD
END:VTIMEZONE
BEGIN:VEVENT
DTSTART;TZID=UTC:20210601T183000
DTEND;TZID=UTC:20210601T193000
DTSTAMP:20260419T085740
CREATED:20210519T173248Z
LAST-MODIFIED:20210519T173248Z
UID:13072-1622572200-1622575800@bostoncyclistsunion.org
SUMMARY:Arrested Mobility: Limits on Black Mobility in the U.S.
DESCRIPTION:This talk will highlight the adverse social\, political\, economic\, and health impacts of racial disparities in transportation and mobility. We will explore the ways in which our research\, planning\, policy\, and street design can and must be reimagined. Doing so will help us achieve greater mobility\, health\, and quality of life for Black Bostonians. Charles Brown will be joined by Elijah Evans of Bikes Not Bombs and Courtney Jacobovits\, resident of Jamaica Plain\, for a discussion after his presentation. \n\nTuesday\, June 1st\, 2021 at 6:30 p.m. – Register at bit.ly/ttalk-june1\nThursday\, June 3rd\, 2021 at 6:30 p.m. – Register at bit.ly/ttalk-june3
URL:https://bostoncyclistsunion.org/event/arrested-mobility-limits-on-black-mobility-in-the-u-s
END:VEVENT
BEGIN:VEVENT
DTSTART;TZID=UTC:20210603T183000
DTEND;TZID=UTC:20210603T193000
DTSTAMP:20260419T085740
CREATED:20210519T173339Z
LAST-MODIFIED:20210519T173339Z
UID:13074-1622745000-1622748600@bostoncyclistsunion.org
SUMMARY:Arrested Mobility: Limits on Black Mobility in the U.S.
DESCRIPTION:This talk will highlight the adverse social\, political\, economic\, and health impacts of racial disparities in transportation and mobility. We will explore the ways in which our research\, planning\, policy\, and street design can and must be reimagined. Doing so will help us achieve greater mobility\, health\, and quality of life for Black Bostonians. Charles Brown will be joined by Elijah Evans of Bikes Not Bombs and Courtney Jacobovits\, resident of Jamaica Plain\, for a discussion after his presentation. \n\nTuesday\, June 1st\, 2021 at 6:30 p.m. – Register at bit.ly/ttalk-june1\nThursday\, June 3rd\, 2021 at 6:30 p.m. – Register at bit.ly/ttalk-june3
URL:https://bostoncyclistsunion.org/event/arrested-mobility-limits-on-black-mobility-in-the-u-s-2
END:VEVENT
END:VCALENDAR