BEGIN:VCALENDAR
VERSION:2.0
PRODID:-//Boston Cyclists Union - ECPv6.15.20//NONSGML v1.0//EN
CALSCALE:GREGORIAN
METHOD:PUBLISH
X-ORIGINAL-URL:https://bostoncyclistsunion.org
X-WR-CALDESC:Events for Boston Cyclists Union
REFRESH-INTERVAL;VALUE=DURATION:PT1H
X-Robots-Tag:noindex
X-PUBLISHED-TTL:PT1H
BEGIN:VTIMEZONE
TZID:UTC
BEGIN:STANDARD
TZOFFSETFROM:+0000
TZOFFSETTO:+0000
TZNAME:UTC
DTSTART:20190101T000000
END:STANDARD
END:VTIMEZONE
BEGIN:VEVENT
DTSTART;TZID=UTC:20200701T150000
DTEND;TZID=UTC:20200701T183000
DTSTAMP:20260419T100917
CREATED:20200701T203833Z
LAST-MODIFIED:20200701T203833Z
UID:11914-1593615600-1593628200@bostoncyclistsunion.org
SUMMARY:Bike to Market: East Boston
DESCRIPTION:The Bike Union will be providing free bike repair at East Boston’s Central Square farmers market. To learn more about Bike to Market\, head here.
URL:https://bostoncyclistsunion.org/event/bike-to-market-east-boston
LOCATION:Central Square\, East Boston\, Intersection of Bennington\, Meridian\, and Border Streets Boston\, Massachusetts
END:VEVENT
BEGIN:VEVENT
DTSTART;TZID=UTC:20200702T143000
DTEND;TZID=UTC:20200702T183000
DTSTAMP:20260419T100917
CREATED:20200701T204148Z
LAST-MODIFIED:20200826T071332Z
UID:11924-1593700200-1593714600@bostoncyclistsunion.org
SUMMARY:Bike to Market: Roxbury / Dudley Town Common
DESCRIPTION:The Bike Union will be providing free bike repair at Roxbury’s Dudley Town Common farmers market. To learn more about Bike to Market\, head here.
URL:https://bostoncyclistsunion.org/event/bike-to-market-roxbury-dudley-town-common
LOCATION:Dudley St & Blue Hill Ave\, Roxbury\, MA
END:VEVENT
BEGIN:VEVENT
DTSTART;TZID=UTC:20200718T100000
DTEND;TZID=UTC:20200718T130000
DTSTAMP:20260419T100917
CREATED:20200709T210739Z
LAST-MODIFIED:20200709T210739Z
UID:11973-1595066400-1595077200@bostoncyclistsunion.org
SUMMARY:Bike to Market: Mattapan Square
DESCRIPTION:The Bike Union will be providing free bike repair at the Mattapan Square farmers market. To learn more about Bike to Market\, head here.
URL:https://bostoncyclistsunion.org/event/bike-to-market-mattapan-square-4
LOCATION:Corner of Cummins Highway & Fairway Street Mattapan\, Massachusetts
END:VEVENT
BEGIN:VEVENT
DTSTART;TZID=UTC:20200725T100000
DTEND;TZID=UTC:20200725T130000
DTSTAMP:20260419T100917
CREATED:20200701T204755Z
LAST-MODIFIED:20200709T210608Z
UID:11949-1595671200-1595682000@bostoncyclistsunion.org
SUMMARY:Bike to Market: Mattapan Square
DESCRIPTION:The Bike Union will be providing free bike repair at the Mattapan Square farmers market. To learn more about Bike to Market\, head here.
URL:https://bostoncyclistsunion.org/event/bike-to-market-mattapan-square-3
LOCATION:Corner of Cummins Highway & Fairway Street Mattapan\, Massachusetts
END:VEVENT
END:VCALENDAR