BEGIN:VCALENDAR
VERSION:2.0
PRODID:-//Boston Cyclists Union - ECPv6.15.20//NONSGML v1.0//EN
CALSCALE:GREGORIAN
METHOD:PUBLISH
X-ORIGINAL-URL:https://bostoncyclistsunion.org
X-WR-CALDESC:Events for Boston Cyclists Union
REFRESH-INTERVAL;VALUE=DURATION:PT1H
X-Robots-Tag:noindex
X-PUBLISHED-TTL:PT1H
BEGIN:VTIMEZONE
TZID:UTC
BEGIN:STANDARD
TZOFFSETFROM:+0000
TZOFFSETTO:+0000
TZNAME:UTC
DTSTART:20210101T000000
END:STANDARD
END:VTIMEZONE
BEGIN:VEVENT
DTSTART;TZID=UTC:20221018T180000
DTEND;TZID=UTC:20221018T210000
DTSTAMP:20260421T125938
CREATED:20220909T002343Z
LAST-MODIFIED:20220915T183439Z
UID:14785-1666116000-1666126800@bostoncyclistsunion.org
SUMMARY:Biketoberfest 2022
DESCRIPTION:Biketoberfest 2022 \nBiketoberfest 2022 is here! After a long hot summer of biking & activism\, it’s time to celebrate! For the first time in 3 years we’ll be back in person\, with hundreds of fellow cyclists and friends coming together over complimentary food\, drink and live music. Test your luck with a chance to win exciting raffle prizes\, some valuing at over $400! \nWhile you’re growing your bike crew\, you can learn about the work the BCU has done in the past year and how you can make a difference in that work. Those who have put in an exceptional amount of commitment to biking justice will be honored through our exciting Golden Cog award celebration! \nThe work we do couldn’t have been done without contributions from our donors and members. The proceeds from tickets directly support the campaigns we work on to win better bike infrastructure where it’s most needed in our Boston neighborhoods. Plus it helps us keep putting on social events like this and our group rides which help grow and cultivate a healthy and inclusive bike community in Boston. \nWe hope you’ll join us in celebrating our progress to date and stand with us as we continue working on building a bike safe Boston! \nBuy your tickets today! Available here.
URL:https://bostoncyclistsunion.org/event/biketoberfest2022
LOCATION:Garage B at The Charles River Speedway\, 1420 Soldier’s Field Road\, Brighton\, MA\, 02135
CATEGORIES:Fundraiser
END:VEVENT
END:VCALENDAR