BEGIN:VCALENDAR
VERSION:2.0
PRODID:-//Boston Cyclists Union - ECPv6.15.20//NONSGML v1.0//EN
CALSCALE:GREGORIAN
METHOD:PUBLISH
X-ORIGINAL-URL:https://bostoncyclistsunion.org
X-WR-CALDESC:Events for Boston Cyclists Union
REFRESH-INTERVAL;VALUE=DURATION:PT1H
X-Robots-Tag:noindex
X-PUBLISHED-TTL:PT1H
BEGIN:VTIMEZONE
TZID:America/New_York
BEGIN:DAYLIGHT
TZOFFSETFROM:-0500
TZOFFSETTO:-0400
TZNAME:EDT
DTSTART:20220313T070000
END:DAYLIGHT
BEGIN:STANDARD
TZOFFSETFROM:-0400
TZOFFSETTO:-0500
TZNAME:EST
DTSTART:20221106T060000
END:STANDARD
BEGIN:DAYLIGHT
TZOFFSETFROM:-0500
TZOFFSETTO:-0400
TZNAME:EDT
DTSTART:20230312T070000
END:DAYLIGHT
BEGIN:STANDARD
TZOFFSETFROM:-0400
TZOFFSETTO:-0500
TZNAME:EST
DTSTART:20231105T060000
END:STANDARD
BEGIN:DAYLIGHT
TZOFFSETFROM:-0500
TZOFFSETTO:-0400
TZNAME:EDT
DTSTART:20240310T070000
END:DAYLIGHT
BEGIN:STANDARD
TZOFFSETFROM:-0400
TZOFFSETTO:-0500
TZNAME:EST
DTSTART:20241103T060000
END:STANDARD
END:VTIMEZONE
BEGIN:VEVENT
DTSTART;TZID=America/New_York:20230716T110000
DTEND;TZID=America/New_York:20230716T130000
DTSTAMP:20260421T052342
CREATED:20230628T175844Z
LAST-MODIFIED:20230628T175844Z
UID:15594-1689505200-1689512400@bostoncyclistsunion.org
SUMMARY:BnB - United In Pride: Unity In Community Ride
DESCRIPTION:  \nNote that this event was rescheduled to 7/16 !
URL:https://bostoncyclistsunion.org/event/bnb-united-in-pride-unity-in-community-ride
LOCATION:Bikes Not Bombs\, 284 Amory St\, Boston\, MA\, 02130\, United States
ORGANIZER;CN="Bikes Not Bombs":MAILTO:mail@bikesnotbombs.org
END:VEVENT
END:VCALENDAR