BEGIN:VCALENDAR
VERSION:2.0
PRODID:-//Boston Cyclists Union - ECPv6.15.20//NONSGML v1.0//EN
CALSCALE:GREGORIAN
METHOD:PUBLISH
X-WR-CALNAME:Boston Cyclists Union
X-ORIGINAL-URL:https://bostoncyclistsunion.org
X-WR-CALDESC:Events for Boston Cyclists Union
REFRESH-INTERVAL;VALUE=DURATION:PT1H
X-Robots-Tag:noindex
X-PUBLISHED-TTL:PT1H
BEGIN:VTIMEZONE
TZID:UTC
BEGIN:STANDARD
TZOFFSETFROM:+0000
TZOFFSETTO:+0000
TZNAME:UTC
DTSTART:20200101T000000
END:STANDARD
END:VTIMEZONE
BEGIN:VEVENT
DTSTART;TZID=UTC:20210524T100000
DTEND;TZID=UTC:20210524T120000
DTSTAMP:20260422T061333
CREATED:20210510T221049Z
LAST-MODIFIED:20210510T221049Z
UID:13049-1621850400-1621857600@bostoncyclistsunion.org
SUMMARY:Hearing on Boston’s Transportation and Public Works budgets
DESCRIPTION:Speak up for the #BostonBikeBudget and people-first streets! \nMore info and how to attend here.
URL:https://bostoncyclistsunion.org/event/hearing-on-bostons-transportation-and-public-works-budgets
END:VEVENT
END:VCALENDAR