BEGIN:VCALENDAR
VERSION:2.0
PRODID:-//Boston Cyclists Union - ECPv6.15.20//NONSGML v1.0//EN
CALSCALE:GREGORIAN
METHOD:PUBLISH
X-WR-CALNAME:Boston Cyclists Union
X-ORIGINAL-URL:https://bostoncyclistsunion.org
X-WR-CALDESC:Events for Boston Cyclists Union
REFRESH-INTERVAL;VALUE=DURATION:PT1H
X-Robots-Tag:noindex
X-PUBLISHED-TTL:PT1H
BEGIN:VTIMEZONE
TZID:UTC
BEGIN:STANDARD
TZOFFSETFROM:+0000
TZOFFSETTO:+0000
TZNAME:UTC
DTSTART:20200101T000000
END:STANDARD
END:VTIMEZONE
BEGIN:VEVENT
DTSTART;VALUE=DATE:20210521
DTEND;VALUE=DATE:20210522
DTSTAMP:20260419T124453
CREATED:20210510T220309Z
LAST-MODIFIED:20210510T220309Z
UID:13043-1621555200-1621641599@bostoncyclistsunion.org
SUMMARY:Bike to Work (or Wherever!) Day
DESCRIPTION:Although there won’t be a big celebration downtown this year as in years past\, you’re still encouraged to get out and ride anywhere today. Learn more here.
URL:https://bostoncyclistsunion.org/event/bike-to-work-or-wherever-day
END:VEVENT
BEGIN:VEVENT
DTSTART;TZID=UTC:20210521T173000
DTEND;TZID=UTC:20210521T200000
DTSTAMP:20260419T124453
CREATED:20210510T220424Z
LAST-MODIFIED:20210510T220424Z
UID:13045-1621618200-1621627200@bostoncyclistsunion.org
SUMMARY:Build Back Bikeable Rally & Ride
DESCRIPTION:   Rally\, ride\, and party for a better bike network and people-first streets!\nPart of the BCU’s #BostonBikeBudget campaign\, we’re rallying to demand Boston build 10 miles of protected bike lanes this year\, with a focus on filling gaps and forming connections to make the bike network more accessible to all. Meet us at City Hall for the rally\, and then join us for a ride highlighting the good and bad of Boston’s bike network. We’ll finish up with an outdoor afterparty on Malcolm X Blvd.\n\n START: 5pm\, City Hall Plaza\n RIDE: 530pm\n AFTERPARTY: 6:30pm Malcolm X Blvd\n\n Learn more about the bike budget and sign the petition here: https://bostoncyclistsunion.org/bostonbikebudget\n\nRSVP HERE
URL:https://bostoncyclistsunion.org/event/build-back-bikeable-rally-ride
END:VEVENT
END:VCALENDAR