BEGIN:VCALENDAR
VERSION:2.0
PRODID:-//Boston Cyclists Union - ECPv6.15.20//NONSGML v1.0//EN
CALSCALE:GREGORIAN
METHOD:PUBLISH
X-ORIGINAL-URL:https://bostoncyclistsunion.org
X-WR-CALDESC:Events for Boston Cyclists Union
REFRESH-INTERVAL;VALUE=DURATION:PT1H
X-Robots-Tag:noindex
X-PUBLISHED-TTL:PT1H
BEGIN:VTIMEZONE
TZID:UTC
BEGIN:STANDARD
TZOFFSETFROM:+0000
TZOFFSETTO:+0000
TZNAME:UTC
DTSTART:20180101T000000
END:STANDARD
END:VTIMEZONE
BEGIN:VEVENT
DTSTART;TZID=UTC:20190720T080000
DTEND;TZID=UTC:20190720T120000
DTSTAMP:20260421T102220
CREATED:20190711T183152Z
LAST-MODIFIED:20190711T183152Z
UID:10424-1563609600-1563624000@bostoncyclistsunion.org
SUMMARY:Mattapan On Wheels
DESCRIPTION:Registration can be done in advance or day-of starting at 8am. 3 different lengths of rides leave at 9am\, including a family-friendly option. We will be there doing free bike repair for riders.
URL:https://bostoncyclistsunion.org/event/mattapan-on-wheels-2
END:VEVENT
BEGIN:VEVENT
DTSTART;TZID=UTC:20190720T090000
DTEND;TZID=UTC:20190720T110000
DTSTAMP:20260421T102220
CREATED:20190402T225625Z
LAST-MODIFIED:20190613T205856Z
UID:9900-1563613200-1563620400@bostoncyclistsunion.org
SUMMARY:Bike to Market at Mattapan on Wheels
DESCRIPTION:
URL:https://bostoncyclistsunion.org/event/mattapan-on-wheels
END:VEVENT
END:VCALENDAR