BEGIN:VCALENDAR
VERSION:2.0
PRODID:-//Boston Cyclists Union - ECPv6.15.20//NONSGML v1.0//EN
CALSCALE:GREGORIAN
METHOD:PUBLISH
X-WR-CALNAME:Boston Cyclists Union
X-ORIGINAL-URL:https://bostoncyclistsunion.org
X-WR-CALDESC:Events for Boston Cyclists Union
REFRESH-INTERVAL;VALUE=DURATION:PT1H
X-Robots-Tag:noindex
X-PUBLISHED-TTL:PT1H
BEGIN:VTIMEZONE
TZID:UTC
BEGIN:STANDARD
TZOFFSETFROM:+0000
TZOFFSETTO:+0000
TZNAME:UTC
DTSTART:20180101T000000
END:STANDARD
END:VTIMEZONE
BEGIN:VEVENT
DTSTART;TZID=UTC:20190518T100000
DTEND;TZID=UTC:20190518T110000
DTSTAMP:20260421T081859
CREATED:20190326T003822Z
LAST-MODIFIED:20190506T210401Z
UID:9711-1558173600-1558177200@bostoncyclistsunion.org
SUMMARY:Bike with Kids 2019
DESCRIPTION:A ride for all ages and abilities from Dudley Square to the Kite and Bike Festival at Franklin Park hosted by Roxbury Way. There will be a route for kids with a scavenger hunt. Boston Cyclists Union will be supporting with ride marshalls. Sign up on our website under VOLUNTEER to help out and make sure riders are safe.
URL:https://bostoncyclistsunion.org/event/roxbury-way-ride-for-kids
LOCATION:Dudley Cafe\, 15 Warren St\, Boston\, MA\, 02119\, United States
END:VEVENT
BEGIN:VEVENT
DTSTART;TZID=UTC:20190518T100000
DTEND;TZID=UTC:20190518T140000
DTSTAMP:20260421T081859
CREATED:20190326T004742Z
LAST-MODIFIED:20190509T212811Z
UID:9720-1558173600-1558188000@bostoncyclistsunion.org
SUMMARY:Envision Beacon
DESCRIPTION:With the help of the Brookline GreenSpace Alliance\, the Brookline Bicycle Advisory Committee\, LivableStreets Alliance and Biking Brookline\, volunteers in Brookline are staging a public event on Saturday\, May 18 to showcase the bridle path restoration project on the Beacon Street median. Between 10am and 2pm\, the portion of the old bridle path between Carlton Street and Kent Street will be closed for car parking (its current use) and open for waking\, biking\, scootering\, sauntering and general re-imagining of the space as a public amenity in the heart of Brookline.
URL:https://bostoncyclistsunion.org/event/envision-beacon
END:VEVENT
BEGIN:VEVENT
DTSTART;TZID=UTC:20190518T110000
DTEND;TZID=UTC:20190518T160000
DTSTAMP:20260421T081859
CREATED:20190326T004348Z
LAST-MODIFIED:20190326T004348Z
UID:9714-1558177200-1558195200@bostoncyclistsunion.org
SUMMARY:Kite & Bike Festival
DESCRIPTION:The Kite & Bike festival has been happening in Franklin Park since 1969. There will be music\, food\, kite-making\, and bike advocacy organizations. Check out the volunteer tab on our website to sign up to help us table at the event.
URL:https://bostoncyclistsunion.org/event/kite-bike-festival
LOCATION:Franklin Park\, Franklin Park (North Walnut Entrance)\, Roxbury\, MA\, 02125\, United States
END:VEVENT
BEGIN:VEVENT
DTSTART;TZID=UTC:20190518T120000
DTEND;TZID=UTC:20190518T170000
DTSTAMP:20260421T081859
CREATED:20190509T211146Z
LAST-MODIFIED:20190509T212101Z
UID:10209-1558180800-1558198800@bostoncyclistsunion.org
SUMMARY:Open House BBQ and Bike Pageant
DESCRIPTION:Come join the folks at Somerville Bike Kitchen for an afternoon of food and fun\, and bring your bike(s) for our first ever Somerville Bike Pageant. \nWe encourage participants to register their bike ahead of time: https://bit.ly/2KH7qsu \nJudging categories may or may not include: rando\, vintage\, fixie\, tandem\, commuter\, family-bike\, Java-Google\, cargo\, other. Come show us what you got. All bikes regardless of age\, style\, condition and handle bar shape are celebrated!
URL:https://bostoncyclistsunion.org/event/open-house-bbq-and-bike-pageant
END:VEVENT
BEGIN:VEVENT
DTSTART;TZID=UTC:20190518T130000
DTEND;TZID=UTC:20190518T150000
DTSTAMP:20260421T081859
CREATED:20190419T194009Z
LAST-MODIFIED:20190419T194009Z
UID:10041-1558184400-1558191600@bostoncyclistsunion.org
SUMMARY:Bus-Bike Workshop
DESCRIPTION:A shared bus-bike lane is coming to Brighton Avenue this June. In this workshop\, we’ll help prepare you to feel confident and comfortable biking in your new 12 ft. lane! \n• Get tips for sharing a lane with buses\n• Step into a bus driver’s seat to identify blind spots\n• Boston Transportation Department and MBTA staff will be on hand to help answer your questions
URL:https://bostoncyclistsunion.org/event/bus-bike-workshop
LOCATION:Jackson Mann School Gymnasium\, 40 Armington Street\, Allston\, MA\, 02139\, United States
END:VEVENT
END:VCALENDAR