BEGIN:VCALENDAR
VERSION:2.0
PRODID:-//Boston Cyclists Union - ECPv6.15.20//NONSGML v1.0//EN
CALSCALE:GREGORIAN
METHOD:PUBLISH
X-ORIGINAL-URL:https://bostoncyclistsunion.org
X-WR-CALDESC:Events for Boston Cyclists Union
REFRESH-INTERVAL;VALUE=DURATION:PT1H
X-Robots-Tag:noindex
X-PUBLISHED-TTL:PT1H
BEGIN:VTIMEZONE
TZID:UTC
BEGIN:STANDARD
TZOFFSETFROM:+0000
TZOFFSETTO:+0000
TZNAME:UTC
DTSTART:20180101T000000
END:STANDARD
END:VTIMEZONE
BEGIN:VEVENT
DTSTART;TZID=UTC:20190515T073000
DTEND;TZID=UTC:20190515T093000
DTSTAMP:20260421T151547
CREATED:20190510T010914Z
LAST-MODIFIED:20190513T202006Z
UID:10216-1557905400-1557912600@bostoncyclistsunion.org
SUMMARY:Biker Breakfast
DESCRIPTION:We will be on the Southwest Corridor just before Ruggles Station giving out free breakfast and talking about our work. We hope you will stop by and join as a member\, grab a Bike Month calendar\, or share your #BostonBikeStory with us!
URL:https://bostoncyclistsunion.org/event/biker-breakfast
LOCATION:Ruggles St crossing on SW Corridor\, 82 Ruggles STreet\, Roxbury\, MA\, 02120\, United States
END:VEVENT
BEGIN:VEVENT
DTSTART;TZID=UTC:20190515T180000
DTEND;TZID=UTC:20190515T210000
DTSTAMP:20260421T151547
CREATED:20190509T210211Z
LAST-MODIFIED:20190509T212243Z
UID:10200-1557943200-1557954000@bostoncyclistsunion.org
SUMMARY:Bos/treal Sendoff Party & Fundraiser
DESCRIPTION:We’re throwing a sendoff party for Team Bike Union as our riders prepare for their 400-mile adventure from Boston to Montreal! Bid on amazing raffle items\, race your friends in bold sprints\, and wish our team good luck and happy riding! \nAll proceeds from the raffle go directly toward individual riders’ fundraising goals. A portion of sales from each beer sold by our generous host\, Turtle Swamp Brewing\, will also support the ride. \nSupport Team Bike Union\, win prizes\, and race your friends! \nAbout Bos/treal:\nBos/treal is the Bike Union’s annual fundraising and activist training ride. Riders pedal 400 miles from Boston to Montreal\, where they meet with experts for a seminar on advocacy and urban planning. More information on Bos/treal can be found here: https://bostoncyclistsunion.org/events/bostreal
URL:https://bostoncyclistsunion.org/event/bos-treal-sendoff-party-fundraiser
END:VEVENT
END:VCALENDAR