BEGIN:VCALENDAR
VERSION:2.0
PRODID:-//Boston Cyclists Union - ECPv6.15.20//NONSGML v1.0//EN
CALSCALE:GREGORIAN
METHOD:PUBLISH
X-ORIGINAL-URL:https://bostoncyclistsunion.org
X-WR-CALDESC:Events for Boston Cyclists Union
REFRESH-INTERVAL;VALUE=DURATION:PT1H
X-Robots-Tag:noindex
X-PUBLISHED-TTL:PT1H
BEGIN:VTIMEZONE
TZID:UTC
BEGIN:STANDARD
TZOFFSETFROM:+0000
TZOFFSETTO:+0000
TZNAME:UTC
DTSTART:20170101T000000
END:STANDARD
END:VTIMEZONE
BEGIN:VEVENT
DTSTART;TZID=UTC:20181023T183000
DTEND;TZID=UTC:20181023T203000
DTSTAMP:20260420T114731
CREATED:20181011T193001Z
LAST-MODIFIED:20181011T193001Z
UID:8932-1540319400-1540326600@bostoncyclistsunion.org
SUMMARY:JP/Rox Transportation Action Plan Meeting
DESCRIPTION:At this meeting the City of Boston will present the results of Action Item polling and discuss project prioritization. The presentation will be followed by breakout sessions to brainstorm placemaking opportunities throughout the neighborhood\, and ways to make Egleston Square a more pleasant place to be\, to walk across\, and to travel through.
URL:https://bostoncyclistsunion.org/event/jp-rox-transportation-action-plan-meeting
LOCATION:Boston English High School\, 144 McBride Street\, Boston\, MA\, 02130\, United States
END:VEVENT
END:VCALENDAR